BEGIN:VCALENDAR
VERSION:2.0
PRODID:-//ChamberMaster//Event Calendar 2.0//EN
METHOD:PUBLISH
X-PUBLISHED-TTL:P1H
REFRESH-INTERVAL:P1H
CALSCALE:GREGORIAN
BEGIN:VTIMEZONE
TZID:America/Denver
BEGIN:DAYLIGHT
RRULE:FREQ=YEARLY;BYMONTH=3;BYDAY=2SU
DTSTART:20070101T000000
TZOFFSETFROM:-0700
TZOFFSETTO:-0600
TZNAME:Mountain Daylight Time
END:DAYLIGHT
BEGIN:STANDARD
RRULE:FREQ=YEARLY;BYMONTH=11;BYDAY=1SU
DTSTART:20070101T000000
TZOFFSETFROM:-0600
TZOFFSETTO:-0700
TZNAME:Mountain Standard Time
END:STANDARD
END:VTIMEZONE
BEGIN:VEVENT
DTSTART;TZID=America/Denver:20260429T093000
DTEND;TZID=America/Denver:20260429T103000
X-MICROSOFT-CDO-ALLDAYEVENT:FALSE
SUMMARY:Young Professional Network (YPN) Committee Meetings
DESCRIPTION:Purpose:\nTo attract young Realtors® (young at heart\, mind\, or age) while creating leadership opportunities and elevating our members with relevant content\, intentional networking\, and volunteer opportunities.
X-ALT-DESC;FMTTYPE=text/html:Purpose:\nTo attract young Realtors® (young at heart\, mind\, or age) while creating leadership opportunities and elevating our members with relevant content\, intentional networking\, and volunteer opportunities.
LOCATION:
UID:e.4267.1437586
SEQUENCE:3
DTSTAMP:20260423T234535Z
URL:https://denvermetroassociationofrealtors.growthzoneapp.com/eventcalendar-sidebar/Details/young-professional-network-ypn-committee-meetings-1701535?sourceTypeId=Hub
END:VEVENT
END:VCALENDAR
